BEGIN:VCALENDAR
VERSION:2.0
PRODID:-//City of Emmetsburg, Iowa - ECPv6.15.20//NONSGML v1.0//EN
CALSCALE:GREGORIAN
METHOD:PUBLISH
X-WR-CALNAME:City of Emmetsburg, Iowa
X-ORIGINAL-URL:https://emmetsburg.com
X-WR-CALDESC:Events for City of Emmetsburg, Iowa
REFRESH-INTERVAL;VALUE=DURATION:PT1H
X-Robots-Tag:noindex
X-PUBLISHED-TTL:PT1H
BEGIN:VTIMEZONE
TZID:America/Chicago
BEGIN:DAYLIGHT
TZOFFSETFROM:-0600
TZOFFSETTO:-0500
TZNAME:CDT
DTSTART:20200308T080000
END:DAYLIGHT
BEGIN:STANDARD
TZOFFSETFROM:-0500
TZOFFSETTO:-0600
TZNAME:CST
DTSTART:20201101T070000
END:STANDARD
BEGIN:DAYLIGHT
TZOFFSETFROM:-0600
TZOFFSETTO:-0500
TZNAME:CDT
DTSTART:20210314T080000
END:DAYLIGHT
BEGIN:STANDARD
TZOFFSETFROM:-0500
TZOFFSETTO:-0600
TZNAME:CST
DTSTART:20211107T070000
END:STANDARD
BEGIN:DAYLIGHT
TZOFFSETFROM:-0600
TZOFFSETTO:-0500
TZNAME:CDT
DTSTART:20220313T080000
END:DAYLIGHT
BEGIN:STANDARD
TZOFFSETFROM:-0500
TZOFFSETTO:-0600
TZNAME:CST
DTSTART:20221106T070000
END:STANDARD
BEGIN:DAYLIGHT
TZOFFSETFROM:-0600
TZOFFSETTO:-0500
TZNAME:CDT
DTSTART:20230312T080000
END:DAYLIGHT
BEGIN:STANDARD
TZOFFSETFROM:-0500
TZOFFSETTO:-0600
TZNAME:CST
DTSTART:20231105T070000
END:STANDARD
BEGIN:DAYLIGHT
TZOFFSETFROM:-0600
TZOFFSETTO:-0500
TZNAME:CDT
DTSTART:20240310T080000
END:DAYLIGHT
BEGIN:STANDARD
TZOFFSETFROM:-0500
TZOFFSETTO:-0600
TZNAME:CST
DTSTART:20241103T070000
END:STANDARD
BEGIN:DAYLIGHT
TZOFFSETFROM:-0600
TZOFFSETTO:-0500
TZNAME:CDT
DTSTART:20250309T080000
END:DAYLIGHT
BEGIN:STANDARD
TZOFFSETFROM:-0500
TZOFFSETTO:-0600
TZNAME:CST
DTSTART:20251102T070000
END:STANDARD
BEGIN:DAYLIGHT
TZOFFSETFROM:-0600
TZOFFSETTO:-0500
TZNAME:CDT
DTSTART:20260308T080000
END:DAYLIGHT
BEGIN:STANDARD
TZOFFSETFROM:-0500
TZOFFSETTO:-0600
TZNAME:CST
DTSTART:20261101T070000
END:STANDARD
END:VTIMEZONE
BEGIN:VEVENT
DTSTART;TZID=America/Chicago:20250403T100000
DTEND;TZID=America/Chicago:20250403T120000
DTSTAMP:20260423T173317
CREATED:20250423T200953Z
LAST-MODIFIED:20250423T200953Z
UID:19646-1743674400-1743681600@emmetsburg.com
SUMMARY:Palo Alto County Public Health Community Outreach
DESCRIPTION:Public Health Coordinator\, Donna Weig is available to assist in helping you find the resources you need. This service is free of cost.
URL:https://emmetsburg.com/event/palo-alto-county-public-health-community-outreach/
LOCATION:Emmetsburg Public Library\, 707 N Superior St\, Emmetsburg\, IA\, 50536\, United States
CATEGORIES:Education & Learning,Health & Wellness
END:VEVENT
BEGIN:VEVENT
DTSTART;TZID=America/Chicago:20210909T140000
DTEND;TZID=America/Chicago:20210909T160000
DTSTAMP:20260423T173317
CREATED:20210910T160822Z
LAST-MODIFIED:20231009T174646Z
UID:7806-1631196000-1631203200@emmetsburg.com
SUMMARY:Tea-Time Cinema @ The Library
DESCRIPTION:Tea-Time Cinema at the Emmetsburg Public Library is held every Thursday from 2:00-4:00 PM. Each week a different classic movie is shown at the library (each week in December is a holiday-themed movie) where tea is served. Free and open to all. Call library for more information or for titles showing\, 712-852-4009.
URL:https://emmetsburg.com/event/tea-time-cinema-the-library/
LOCATION:Emmetsburg Public Library\, 707 N Superior St\, Emmetsburg\, IA\, 50536\, United States
CATEGORIES:Arts & Culture
ATTACH;FMTTYPE=image/jpeg:https://emmetsburg.com/wp-content/uploads/2023/10/qtq80-jLYsVj.jpeg
END:VEVENT
BEGIN:VEVENT
DTSTART;TZID=America/Chicago:20250403T153000
DTEND;TZID=America/Chicago:20250403T170000
DTSTAMP:20260423T173317
CREATED:20250423T201400Z
LAST-MODIFIED:20250423T201400Z
UID:19651-1743694200-1743699600@emmetsburg.com
SUMMARY:Chess Club
DESCRIPTION:Every Thursday we provide tables with chess boards and pieces for a chess club. All ages welcome with an emphasis on teaching children and new players the game. Light refreshments may be offered.
URL:https://emmetsburg.com/event/chess-club/
LOCATION:Emmetsburg Public Library\, 707 N Superior St\, Emmetsburg\, IA\, 50536\, United States
CATEGORIES:Games,Kids & Family
END:VEVENT
END:VCALENDAR