BEGIN:VCALENDAR
VERSION:2.0
PRODID:-//City of Emmetsburg, Iowa - ECPv6.15.20//NONSGML v1.0//EN
CALSCALE:GREGORIAN
METHOD:PUBLISH
X-WR-CALNAME:City of Emmetsburg, Iowa
X-ORIGINAL-URL:https://emmetsburg.com
X-WR-CALDESC:Events for City of Emmetsburg, Iowa
REFRESH-INTERVAL;VALUE=DURATION:PT1H
X-Robots-Tag:noindex
X-PUBLISHED-TTL:PT1H
BEGIN:VTIMEZONE
TZID:America/Chicago
BEGIN:DAYLIGHT
TZOFFSETFROM:-0600
TZOFFSETTO:-0500
TZNAME:CDT
DTSTART:20220313T080000
END:DAYLIGHT
BEGIN:STANDARD
TZOFFSETFROM:-0500
TZOFFSETTO:-0600
TZNAME:CST
DTSTART:20221106T070000
END:STANDARD
BEGIN:DAYLIGHT
TZOFFSETFROM:-0600
TZOFFSETTO:-0500
TZNAME:CDT
DTSTART:20230312T080000
END:DAYLIGHT
BEGIN:STANDARD
TZOFFSETFROM:-0500
TZOFFSETTO:-0600
TZNAME:CST
DTSTART:20231105T070000
END:STANDARD
BEGIN:DAYLIGHT
TZOFFSETFROM:-0600
TZOFFSETTO:-0500
TZNAME:CDT
DTSTART:20240310T080000
END:DAYLIGHT
BEGIN:STANDARD
TZOFFSETFROM:-0500
TZOFFSETTO:-0600
TZNAME:CST
DTSTART:20241103T070000
END:STANDARD
BEGIN:DAYLIGHT
TZOFFSETFROM:-0600
TZOFFSETTO:-0500
TZNAME:CDT
DTSTART:20250309T080000
END:DAYLIGHT
BEGIN:STANDARD
TZOFFSETFROM:-0500
TZOFFSETTO:-0600
TZNAME:CST
DTSTART:20251102T070000
END:STANDARD
BEGIN:DAYLIGHT
TZOFFSETFROM:-0600
TZOFFSETTO:-0500
TZNAME:CDT
DTSTART:20260308T080000
END:DAYLIGHT
BEGIN:STANDARD
TZOFFSETFROM:-0500
TZOFFSETTO:-0600
TZNAME:CST
DTSTART:20261101T070000
END:STANDARD
END:VTIMEZONE
BEGIN:VEVENT
DTSTART;TZID=America/Chicago:20230522T133000
DTEND;TZID=America/Chicago:20230522T143000
DTSTAMP:20260423T152649
CREATED:20230517T140114Z
LAST-MODIFIED:20240229T145226Z
UID:15043-1684762200-1684765800@emmetsburg.com
SUMMARY:Horizons Bingo
DESCRIPTION:The community is invited to play bingo with the Horizons Members at the Family Life Center every Monday at 1:30 PM.
URL:https://emmetsburg.com/event/horizons-bingo-2/
LOCATION:Family Life Center – First United Methodist Church\, 711 Broadway St\, Emmetsburg\, IA\, 50536\, United States
CATEGORIES:Games
ATTACH;FMTTYPE=image/jpeg:https://emmetsburg.com/wp-content/uploads/2023/08/qtq80-xmS9nx.jpeg
END:VEVENT
BEGIN:VEVENT
DTSTART;TZID=America/Chicago:20250407T153000
DTEND;TZID=America/Chicago:20250407T170000
DTSTAMP:20260423T152649
CREATED:20250423T200721Z
LAST-MODIFIED:20250423T200721Z
UID:19643-1744039800-1744045200@emmetsburg.com
SUMMARY:Video Game Hangout
DESCRIPTION:Come to the library for a fun couple hours of video games. A wide variety of games is offered from week to week with an emphasis on those that get the most players involved. A light snack is provided.
URL:https://emmetsburg.com/event/video-game-hangout-5/
LOCATION:Emmetsburg Public Library\, 707 N Superior St\, Emmetsburg\, IA\, 50536\, United States
CATEGORIES:Games,Kids & Family
END:VEVENT
END:VCALENDAR