BEGIN:VCALENDAR
VERSION:2.0
PRODID:-//City of Emmetsburg, Iowa - ECPv6.15.20//NONSGML v1.0//EN
CALSCALE:GREGORIAN
METHOD:PUBLISH
X-WR-CALNAME:City of Emmetsburg, Iowa
X-ORIGINAL-URL:https://emmetsburg.com
X-WR-CALDESC:Events for City of Emmetsburg, Iowa
REFRESH-INTERVAL;VALUE=DURATION:PT1H
X-Robots-Tag:noindex
X-PUBLISHED-TTL:PT1H
BEGIN:VTIMEZONE
TZID:America/Chicago
BEGIN:DAYLIGHT
TZOFFSETFROM:-0600
TZOFFSETTO:-0500
TZNAME:CDT
DTSTART:20220313T080000
END:DAYLIGHT
BEGIN:STANDARD
TZOFFSETFROM:-0500
TZOFFSETTO:-0600
TZNAME:CST
DTSTART:20221106T070000
END:STANDARD
BEGIN:DAYLIGHT
TZOFFSETFROM:-0600
TZOFFSETTO:-0500
TZNAME:CDT
DTSTART:20230312T080000
END:DAYLIGHT
BEGIN:STANDARD
TZOFFSETFROM:-0500
TZOFFSETTO:-0600
TZNAME:CST
DTSTART:20231105T070000
END:STANDARD
BEGIN:DAYLIGHT
TZOFFSETFROM:-0600
TZOFFSETTO:-0500
TZNAME:CDT
DTSTART:20240310T080000
END:DAYLIGHT
BEGIN:STANDARD
TZOFFSETFROM:-0500
TZOFFSETTO:-0600
TZNAME:CST
DTSTART:20241103T070000
END:STANDARD
BEGIN:DAYLIGHT
TZOFFSETFROM:-0600
TZOFFSETTO:-0500
TZNAME:CDT
DTSTART:20250309T080000
END:DAYLIGHT
BEGIN:STANDARD
TZOFFSETFROM:-0500
TZOFFSETTO:-0600
TZNAME:CST
DTSTART:20251102T070000
END:STANDARD
BEGIN:DAYLIGHT
TZOFFSETFROM:-0600
TZOFFSETTO:-0500
TZNAME:CDT
DTSTART:20260308T080000
END:DAYLIGHT
BEGIN:STANDARD
TZOFFSETFROM:-0500
TZOFFSETTO:-0600
TZNAME:CST
DTSTART:20261101T070000
END:STANDARD
END:VTIMEZONE
BEGIN:VEVENT
DTSTART;TZID=America/Chicago:20250402T103000
DTEND;TZID=America/Chicago:20250402T110000
DTSTAMP:20260423T183753
CREATED:20250423T204537Z
LAST-MODIFIED:20250423T204537Z
UID:19654-1743589800-1743591600@emmetsburg.com
SUMMARY:Tummy Time!
DESCRIPTION:Children birth to two years old and their care givers are invited to attend. Activities Include: Stories\, Music\, & Movement Playtime.
URL:https://emmetsburg.com/event/tummy-time/
LOCATION:Emmetsburg Public Library\, 707 N Superior St\, Emmetsburg\, IA\, 50536\, United States
CATEGORIES:Kids & Family
END:VEVENT
BEGIN:VEVENT
DTSTART;TZID=America/Chicago:20231004T153000
DTEND;TZID=America/Chicago:20231004T163000
DTSTAMP:20260423T183753
CREATED:20231009T173109Z
LAST-MODIFIED:20250423T201251Z
UID:16062-1696433400-1696437000@emmetsburg.com
SUMMARY:Lego Club
DESCRIPTION:Come enjoy at the library! Build a fun scene with Lego and Duplo blocks! This program is intended for children old enough to not put peices in their mouth.
URL:https://emmetsburg.com/event/lego-club/
LOCATION:Emmetsburg Public Library\, 707 N Superior St\, Emmetsburg\, IA\, 50536\, United States
CATEGORIES:Games,Kids & Family
END:VEVENT
END:VCALENDAR